BEGIN:VCALENDAR
METHOD:PUBLISH
VERSION:2.0
PRODID:-//Eventilla iCal Syndication//NONSGML Liana//EN
BEGIN:VEVENT
UID:x3zr2@eventilla.com
DTSTAMP:20200830T140000Z
DTSTART:20200830T140000Z
DTEND:20200830T163000Z
SUMMARY:Viittomakielinen klubi
DESCRIPTION:Viittomakielinen klubi\nEnnakkoilmoittautuminen päättyy tapahtumapäivänä klo 16.00
LOCATION:Oodin Maijansali\, Töölönlahdenkatu 4\, 00100\, Helsinki
URL:http://ilmoittaudu.nuorenvoimanliitto.fi/viittomakielinenklubi
END:VEVENT
END:VCALENDAR
