BEGIN:VCALENDAR
METHOD:PUBLISH
VERSION:2.0
PRODID:-//Eventilla iCal Syndication//NONSGML Liana//EN
BEGIN:VEVENT
UID:xB92o@eventilla.com
DTSTAMP:20240901T140000Z
DTSTART:20240901T140000Z
DTEND:20241231T163000Z
SUMMARY:Kirjoittajaryhmä Ikaros (syksy 2024)
DESCRIPTION:Kirjoittajaryhmä Ikaroksen ilmoittautuminen (syksy 2024)\nAika: torstaisin 12.9.\, 3.10.\, 17.10.\, 14.11.\, 5.12. klo 17.00-19.30\, 5 krt\nPaikka: Tekstin talon kirjasto (Lintulahdenkatu 3)\, joka sijaitsee neljännessä kerroksessa NVL:n toimiston vieressä. Poikkeuksena 3.10.\, jolloin opetus järjestetään Tekstin Talon Kabinetissa 1. kerroksessa.\nHinta: 85 e (NVL:n jäsenet) / 105 e. \nIkaros on suunnattu 18–35-vuotiaille tavoitteellisille kirjoittajille. Ryhmän ohjaaja tuo kirjallisuusnäytteitä ja kirjoittamisen teoriaa ja antaa näihin liittyviä kirjoitusharjoituksia\, joita tehdään pääasiassa kotona\, mutta myös tunneilla mikäli siihen jää aikaa. Teksteistä keskustellaan rakentavasti ryhmässä. Ikaroksessa opitaan kirjoittamisen teorian ja käytännön lisäksi myös palautteen antamista ja vastaanottamista.\nRyhmää ohjaa kirjailija ja luovan kirjoittamisen opettaja Päivi Liski. Ryhmään otetaan 12 osallistujaa ilmoittautumisjärjestyksessä.\nLisätiedot: tuomas.vaahtoluoto@nvl.fi
LOCATION:Tekstin talon kirjasto (4 krs.)\, Lintulahdenkatu 3\, 00530\,
 Helsinki
URL:http://ilmoittaudu.nuorenvoimanliitto.fi/event/xB92o
END:VEVENT
END:VCALENDAR
